BEGIN:VCALENDAR
VERSION:2.0
PRODID:-//karmabunny-web-design//NONSGML //EN
METHOD:PUBLISH
CALSCALE:GREGORIAN
BEGIN:VEVENT
UID:2026-06-12-2026-design-and-deconstruct-workshop@
DTSTART:20260611T233000Z
DTEND:20260612T053000Z
SUMMARY:2026 Design and Deconstruct Workshop
STATUS:CONFIRMED
SEQUENCE:0
TRANSP:OPAQUE
DTSTAMP:20260326T042553Z
END:VEVENT
END:VCALENDAR
